BEGIN:VCALENDAR
VERSION:2.0
PRODID:icalendar-ruby
CALSCALE:GREGORIAN
METHOD:PUBLISH
BEGIN:VEVENT
DTSTAMP:20260424T141913Z
UID:78-347158@unitedlutherantacoma.org
DTSTART:20260430T010000Z
DTEND:20260430T030000Z
CLASS:PUBLIC
CREATED:20260328T224409
DESCRIPTION:
LAST-MODIFIED:20260328T224409
LOCATION:Zoom
SUMMARY:Yak & Yarn
URL;VALUE=URI:https://www.unitedlutherantacoma.org/events/yak-yarn--78/2026
 -04-29
END:VEVENT
END:VCALENDAR
